BEGIN:VCALENDAR
VERSION:2.0
PRODID:-//River City Produce - ECPv6.15.3//NONSGML v1.0//EN
CALSCALE:GREGORIAN
METHOD:PUBLISH
X-ORIGINAL-URL:https://rivercityproduce.com
X-WR-CALDESC:Events for River City Produce
REFRESH-INTERVAL;VALUE=DURATION:PT1H
X-Robots-Tag:noindex
X-PUBLISHED-TTL:PT1H
BEGIN:VTIMEZONE
TZID:UTC
BEGIN:STANDARD
TZOFFSETFROM:+0000
TZOFFSETTO:+0000
TZNAME:UTC
DTSTART:20250101T000000
END:STANDARD
END:VTIMEZONE
BEGIN:VEVENT
DTSTART;TZID=UTC:20260424T143000
DTEND;TZID=UTC:20260424T163000
DTSTAMP:20260425T205848
CREATED:20260330T113108Z
LAST-MODIFIED:20260330T113108Z
UID:7795-1777041000-1777048200@rivercityproduce.com
SUMMARY:Christus Westover Hills Market Day
DESCRIPTION:The Markets by River City Produce presents Christus Hospital-Westover Hills Market Day. Find us every other Friday in the main entrance lobby. Parking is FREE! \nOur markets feature over 60 different fruits and vegetables. We accept cash\, card\, Cash App\, Apple Pay\, & tap to pay. \nThis market features our Healthy Rewards Coupon! $5 off with every purchase of $10 or more. (Yes\, that’s $10 of produce for $5) \nThank you to the American Heart Association for funding our Healthy Rewards discount! \n  \n 
URL:https://rivercityproduce.com/event/christus-westover-hills-market-day-2/
LOCATION:Christus Westover Hills Hospital\, 11212 TX-151\, San Antonio\, TX\, 78251\, United States
CATEGORIES:Public Markets
ORGANIZER;CN="River City Produce":MAILTO:N/A
END:VEVENT
BEGIN:VEVENT
DTSTART;TZID=UTC:20260421T093000
DTEND;TZID=UTC:20260421T123000
DTSTAMP:20260425T205848
CREATED:20260330T120104Z
LAST-MODIFIED:20260330T120104Z
UID:7806-1776763800-1776774600@rivercityproduce.com
SUMMARY:Doris Griffin Senior Center - Produce IQ Class & Market
DESCRIPTION:The Markets by River City Produce presents Produce IQ and Senior Market Day at Doris Griffin Senior Community Center. \nProduce IQ class 9:30-10:30am. Produce Market 10:45am-12:15PM. \nThis is available to seniors registered with the City of San Antonio’s HEAL program.  \nSan Antonio Seniors – Learn more & register here.  https://www.sa.gov/Directory/Departments/DHS/Senior-Services \n 
URL:https://rivercityproduce.com/event/doris-griffin-senior-center-produce-iq-class-market/
LOCATION:Doris Griffin Senior One Stop Center\, 6157 Northwest Loop 410 #410\, San Antonio\, TX\, 78238\, United States
CATEGORIES:Seniors - Produce IQ & Market
ORGANIZER;CN="River City Produce":MAILTO:N/A
END:VEVENT
BEGIN:VEVENT
DTSTART;TZID=UTC:20260415T100000
DTEND;TZID=UTC:20260415T120000
DTSTAMP:20260425T205848
CREATED:20260330T115335Z
LAST-MODIFIED:20260330T115335Z
UID:7801-1776247200-1776254400@rivercityproduce.com
SUMMARY:D5 Senior Center - Produce IQ Class & Market
DESCRIPTION:The Markets by River City Produce presents Produce IQ and Senior Market Day at the D5 Community Center. \nProduce IQ class 10:00-11:00am. Produce Market 11:00am-12:15PM. \nThis is available to seniors registered with the City of San Antonio’s HEAL program.  \nSan Antonio Seniors – Learn more & register here.  https://www.sa.gov/Directory/Departments/DHS/Senior-Services \n 
URL:https://rivercityproduce.com/event/d5-senior-center-produce-iq-class-market/
LOCATION:District 5 Senior Center\, 2701 S Presa St\, San Antonio\, TX\, 78210\, United States
CATEGORIES:Seniors - Produce IQ & Market
ORGANIZER;CN="River City Produce":MAILTO:N/A
END:VEVENT
BEGIN:VEVENT
DTSTART;TZID=UTC:20260414T093000
DTEND;TZID=UTC:20260414T120000
DTSTAMP:20260425T205848
CREATED:20260330T113451Z
LAST-MODIFIED:20260330T113607Z
UID:7797-1776159000-1776168000@rivercityproduce.com
SUMMARY:Willie Cortez Senior Center - Produce IQ Class & Market
DESCRIPTION:The Markets by River City Produce presents Produce IQ and Senior Market Day at Willie Cortez Senior Community Center. \nProduce IQ class 9:30-10:30am. Produce Market 10:45am-12:15PM. \nThis is available to seniors registered with the City of San Antonio’s HEAL program.  \nSan Antonio Seniors – Learn more & register here.  https://www.sa.gov/Directory/Departments/DHS/Senior-Services \n 
URL:https://rivercityproduce.com/event/willie-cortez-senior-center-produce-iq-class-market/
LOCATION:Willie Cortez Senior Community Center\, 5512 Military Dr W\, San Antonio\, TX\, 78242\, United States
CATEGORIES:Seniors - Produce IQ & Market
ORGANIZER;CN="River City Produce":MAILTO:N/A
END:VEVENT
BEGIN:VEVENT
DTSTART;TZID=UTC:20260410T143000
DTEND;TZID=UTC:20260410T163000
DTSTAMP:20260425T205848
CREATED:20260330T112938Z
LAST-MODIFIED:20260330T112938Z
UID:7790-1775831400-1775838600@rivercityproduce.com
SUMMARY:Christus Westover Hills Market Day
DESCRIPTION:The Markets by River City Produce presents Christus Hospital-Westover Hills Market Day. Find us every other Friday in the main entrance lobby. Parking is FREE! \nOur markets feature over 60 different fruits and vegetables. We accept cash\, card\, Cash App\, Apple Pay\, & tap to pay. \nThis market features our Healthy Rewards Coupon! $5 off with every purchase of $10 or more. (Yes\, that’s $10 of produce for $5) \nThank you to the American Heart Association for funding our Healthy Rewards discount! \n  \n 
URL:https://rivercityproduce.com/event/christus-westover-hills-market-day/
LOCATION:Christus Westover Hills Hospital\, 11212 TX-151\, San Antonio\, TX\, 78251\, United States
CATEGORIES:Public Markets
ORGANIZER;CN="River City Produce":MAILTO:N/A
END:VEVENT
BEGIN:VEVENT
DTSTART;TZID=UTC:20260409T143000
DTEND;TZID=UTC:20260409T173000
DTSTAMP:20260425T205848
CREATED:20260330T110238Z
LAST-MODIFIED:20260330T110238Z
UID:7783-1775745000-1775755800@rivercityproduce.com
SUMMARY:TOTALLY FREE MARKET - Public Health Week
DESCRIPTION:The Markets by River City Produce\, in partnership with COSA Metro Health\, presents the National Public Health Week TOTALLY FREE MARKET. \n500 households will shop for up to $15 in FREE produce. Shoppers will receive wristbands for their spot in the market line. \nThank you to the City of San Antonio for funding this FREE market! \n  \n 
URL:https://rivercityproduce.com/event/totally-free-market-public-health-week/
LOCATION:Rosedale Park\, 303 Dartmouth St\, San Antonio\, TX\, 78237\, United States
CATEGORIES:Public Markets
ORGANIZER;CN="River City Produce":MAILTO:N/A
END:VEVENT
BEGIN:VEVENT
DTSTART;TZID=UTC:20260408T153000
DTEND;TZID=UTC:20260408T173000
DTSTAMP:20260425T205848
CREATED:20260330T103232Z
LAST-MODIFIED:20260330T140743Z
UID:7777-1775662200-1775669400@rivercityproduce.com
SUMMARY:YWLA Market Day
DESCRIPTION:The Markets by River City Produce presents Young Women’s Leadership Academy Market Day. \nThis market is open to the public and begins at the end of the school day. Our markets feature over 60 different fruits and vegetables. Find us in the quad!  \nThis market features our Healthy Rewards Coupon! $5 off with every purchase of $10 or more. (Yes\, that’s $10 of produce for $5) \nWe accept cash\, card\, Cash App\, Apple Pay\, & tap to pay \n  \nThank you to the American Heart Association for funding our Healthy Rewards discount! \n  \n 
URL:https://rivercityproduce.com/event/ywla-market-day/
LOCATION:Robinette Senior Community Center\, 1423 S. Ellison Dr.\, San Antonio\, TX\, 78245\, United States
CATEGORIES:Public Markets
END:VEVENT
BEGIN:VEVENT
DTSTART;TZID=UTC:20260407T093000
DTEND;TZID=UTC:20260407T120000
DTSTAMP:20260425T205848
CREATED:20260330T100523Z
LAST-MODIFIED:20260331T185353Z
UID:7768-1775554200-1775563200@rivercityproduce.com
SUMMARY:Robinette Senior Center - Produce IQ Class & Market
DESCRIPTION:The Markets by River City Produce presents Produce IQ and Senior Market Day at Robinette. Produce IQ class 9:30-10:30am. Produce Market 10:45am-12:15PM. \nThis is available to seniors registered with the City of San Antonio’s HEAL program.  \nSan Antonio Seniors – Learn more & register here.  https://www.sa.gov/Directory/Departments/DHS/Senior-Services \n 
URL:https://rivercityproduce.com/event/robinette-senior-center-produce-iq-class-market/
LOCATION:Robinette Senior Community Center\, 1423 S. Ellison Dr.\, San Antonio\, TX\, 78245\, United States
CATEGORIES:Seniors - Produce IQ & Market
ORGANIZER;CN="River City Produce":MAILTO:N/A
END:VEVENT
BEGIN:VEVENT
DTSTART;TZID=UTC:20250704T080000
DTEND;TZID=UTC:20250704T170000
DTSTAMP:20260425T205848
CREATED:20250619T182508Z
LAST-MODIFIED:20250702T033447Z
UID:7461-1751616000-1751648400@rivercityproduce.com
SUMMARY:Big Sale Event
DESCRIPTION:River City Produce \nBig Sale Event
URL:https://rivercityproduce.com/event/big-sale-event/
LOCATION:The Spot\, 1616 S. Laredo St.\, San Antonio\, TX\, 78207
ORGANIZER;CN="River City Produce":MAILTO:N/A
END:VEVENT
END:VCALENDAR